BEGIN:VCALENDAR
VERSION:2.0
PRODID:https://github.com/derhansen/sf_event_mgt
METHOD:PUBLISH
BEGIN:VEVENT
UID:765-9@dev.ssapm.ch
CLASS: PUBLIC
SUMMARY:11ème forum genevois d’anesthésie et de médecine périopératoire, « 
 Mère et enfant »
DESCRIPTION:
LOCATION:Genève
DTSTAMP:20250613T142033Z
DTSTART:20250617T060000Z
DTEND:20250617T151800Z
END:VEVENT
END:VCALENDAR
