BEGIN:VCALENDAR
VERSION:2.0
PRODID:https://github.com/derhansen/sf_event_mgt
METHOD:PUBLISH
BEGIN:VEVENT
UID:662-9@dev.ssapm.ch
CLASS: PUBLIC
SUMMARY:9. Mitteleuropäisches Flugrettungssymposium
DESCRIPTION:Website
LOCATION:Zürich
DTSTAMP:20240719T080739Z
DTSTART:20240928T075500Z
DTEND:20240928T085500Z
END:VEVENT
END:VCALENDAR
