BEGIN:VCALENDAR
VERSION:2.0
PRODID:https://github.com/derhansen/sf_event_mgt
METHOD:PUBLISH
BEGIN:VEVENT
UID:827-9@dev.ssapm.ch
CLASS: PUBLIC
SUMMARY:Perfezionamento e aggiornamento in Medicina intensiva 2025 (28.11.2
 025)
DESCRIPTION:
LOCATION:Lugano
DTSTAMP:20250618T094202Z
DTSTART:20251128T070000Z
DTEND:20251128T170000Z
END:VEVENT
END:VCALENDAR
