BEGIN:VCALENDAR
VERSION:2.0
PRODID:https://github.com/derhansen/sf_event_mgt
METHOD:PUBLISH
BEGIN:VEVENT
UID:726-9@dev.ssapm.ch
CLASS: PUBLIC
SUMMARY:Swiss Pain Institute Integrated Neuromodulation School
DESCRIPTION:Inscription
LOCATION:Lausanne
DTSTAMP:20250327T101057Z
DTSTART:20250516T060800Z
DTEND:20250517T160000Z
END:VEVENT
END:VCALENDAR
