BEGIN:VCALENDAR
VERSION:2.0
PRODID:https://github.com/derhansen/sf_event_mgt
METHOD:PUBLISH
BEGIN:VEVENT
UID:787-9@dev.ssapm.ch
CLASS: PUBLIC
SUMMARY:13. Berner Notfallultraschalltag
DESCRIPTION:Programm und Anmeldung
LOCATION:Bern
DTSTAMP:20250613T153036Z
DTSTART:20250911T060000Z
DTEND:20250911T162700Z
END:VEVENT
END:VCALENDAR
