BEGIN:VCALENDAR
VERSION:2.0
PRODID:https://github.com/derhansen/sf_event_mgt
METHOD:PUBLISH
BEGIN:VEVENT
UID:682-9@dev.ssapm.ch
CLASS: PUBLIC
SUMMARY:46. Symposium präklinische und klinische Notfallmedi-zin Jubiläumsv
 eranstaltung: Notfall- und Krisenmanagement im Spital
DESCRIPTION:
LOCATION:Zürich
DTSTAMP:20241004T142824Z
DTSTART:20241011T060000Z
DTEND:20241011T160000Z
END:VEVENT
END:VCALENDAR
