BEGIN:VCALENDAR
VERSION:2.0
PRODID:https://github.com/derhansen/sf_event_mgt
METHOD:PUBLISH
BEGIN:VEVENT
UID:851-9@dev.ssapm.ch
CLASS: PUBLIC
SUMMARY:Anästhesie Update 2025
DESCRIPTION:Programm und Anmeldung
LOCATION:Hybrid
DTSTAMP:20251022T080540Z
DTSTART:20251114T070000Z
DTEND:20251115T170000Z
END:VEVENT
END:VCALENDAR
