BEGIN:VCALENDAR
VERSION:2.0
PRODID:https://github.com/derhansen/sf_event_mgt
METHOD:PUBLISH
BEGIN:VEVENT
UID:355-9@dev.ssapm.ch
CLASS: PUBLIC
SUMMARY:ANIM 2025
DESCRIPTION:Webseite
LOCATION:Berlin
DTSTAMP:20250103T115411Z
DTSTART:20250130T070000Z
DTEND:20250201T174600Z
END:VEVENT
END:VCALENDAR
