BEGIN:VCALENDAR
VERSION:2.0
PRODID:https://github.com/derhansen/sf_event_mgt
METHOD:PUBLISH
BEGIN:VEVENT
UID:410-9@dev.ssapm.ch
CLASS: PUBLIC
SUMMARY:Hirslanden Anaesthesia Symposium 2024
DESCRIPTION:Anmeldung: Anaesthesia.symposium@hirslanden.ch\n\nWebseite\n\n\
 n\n
LOCATION:Bern
DTSTAMP:20240315T132859Z
DTSTART:20240426T060000Z
DTEND:20240427T160000Z
END:VEVENT
END:VCALENDAR
