BEGIN:VCALENDAR
VERSION:2.0
PRODID:https://github.com/derhansen/sf_event_mgt
METHOD:PUBLISH
BEGIN:VEVENT
UID:331-9@dev.ssapm.ch
CLASS: PUBLIC
SUMMARY:Mechanische Kreislauf- und Lungenunterstützung – Schwerpunkt ECMO
DESCRIPTION:Webseite
LOCATION:Bern
DTSTAMP:20250613T152613Z
DTSTART:20251113T070000Z
DTEND:20251114T170000Z
END:VEVENT
END:VCALENDAR
