BEGIN:VCALENDAR
VERSION:2.0
PRODID:https://github.com/derhansen/sf_event_mgt
METHOD:PUBLISH
BEGIN:VEVENT
UID:574-9@dev.ssapm.ch
CLASS: PUBLIC
SUMMARY:Ortho Day 2024
DESCRIPTION:Programm und Anmeldung
LOCATION:Interlaken
DTSTAMP:20240315T135131Z
DTSTART:20240426T060000Z
DTEND:20240426T160000Z
END:VEVENT
END:VCALENDAR
