BEGIN:VCALENDAR
VERSION:2.0
PRODID:https://github.com/derhansen/sf_event_mgt
METHOD:PUBLISH
BEGIN:VEVENT
UID:781-9@dev.ssapm.ch
CLASS: PUBLIC
SUMMARY:The 10th Regional Day of Western Switzerland. Regional Anaesthesia 
 Guided by Women
DESCRIPTION:Programm\n\nAnmeldung
LOCATION:Lausanne
DTSTAMP:20250613T151738Z
DTSTART:20251004T061500Z
DTEND:20251004T161500Z
END:VEVENT
END:VCALENDAR
