BEGIN:VCALENDAR
VERSION:2.0
PRODID:https://github.com/derhansen/sf_event_mgt
METHOD:PUBLISH
BEGIN:VEVENT
UID:522-9@dev.ssapm.ch
CLASS: PUBLIC
SUMMARY:WINFOCUS FOCUS the workshop
DESCRIPTION:Webseite
LOCATION:Sierre
DTSTAMP:20240205T131854Z
DTSTART:20240314T070000Z
DTEND:20240314T170000Z
END:VEVENT
END:VCALENDAR
